BEGIN:VCALENDAR
VERSION:2.0
PRODID:-//Date iCal//NONSGML kigkonsult.se iCalcreator 2.20.2//
METHOD:PUBLISH
BEGIN:VTIMEZONE
TZID:America/Toronto
BEGIN:STANDARD
DTSTART:20251102T020000
TZOFFSETFROM:-0400
TZOFFSETTO:-0500
TZNAME:EST
END:STANDARD
BEGIN:DAYLIGHT
DTSTART:20260308T020000
TZOFFSETFROM:-0500
TZOFFSETTO:-0400
TZNAME:EDT
END:DAYLIGHT
END:VTIMEZONE
BEGIN:VEVENT
UID:calendar.2790.events_uoft_date.0@www.nmc.utoronto.ca
CREATED:20251127T035429Z
DESCRIPTION:\nWhen and Where: \nWednesday, December 03, 2025 2:00 pm to 5
 :00 pm \n Room 200B \n Bancroft Building (4 Bancroft Avenue, Toronto) \n
 \nDescription: \nThe Late Ottoman Empire: A Discussion of History and Hist
 oriography Symposium featuring University of Toronto graduate students Cha
 ir: Milena Methodieva (Department of Near and Middle Eastern Civilizations
 )Panel 1: Society, Imagination, and Communities (2 pm – 3:30 pm)Katarina
  KojićTime Traveling in Bosnia: The Evolution of Bosnia Under Ottoman Rule
 Ola AlanqarCoexistence Through Craft: The Social Life of Sufi Lodges and O
 ttoman Calligraphy in the Late Ottoman EmpireOnur ÇezikSeeing the Balkans 
 Otherwise: Reimagining Communal, Transgenerational, and Underseen Histor
 ies in Ottoman MacedoniaDaphne BerberyanSchooling an Empire: Education in 
 the Late Ottoman PeriodCoffee break 3:30 pm – 3:45 pmPanel 2: Identities,
  Possibilities, and Critical Junctures (3:45 pm – 5 pm)Daston BabakanCons
 titutional Belonging: Identity, Nationalism, and Democratic Ideals in a 
 Multiethnic EmpirePano FotiadisThe Turning Point From Empire to Nation? Th
 e Balkan Wars in Ottoman HistoriographySadra EmamiLawrence, Legends, and
  Land: Analyzing the Historiography of the Arab Revolt* See the event post
 er: SOTS_grad_student_2025.pdf \n\nCategories \n Symposium \n\nAudiences 
 \n FacultyGraduate StudentsUndergraduate Students
DTSTART;TZID=America/Toronto:20251203T140000
DTEND;TZID=America/Toronto:20251203T170000
LAST-MODIFIED:20251127T035551Z
SUMMARY:Seminar in Ottoman and Turkish Studies Symposium
URL;TYPE=URI:https://www.nmc.utoronto.ca/events/seminar-ottoman-and-turkish
 -studies-symposium
END:VEVENT
END:VCALENDAR
